Workbook
Name _Int_dxMGCEoD: 'Justificación de recursos'!$B$1

Sheet Plan de Trabajo
A1: PLAN DE TRABAJO CONCURSO NUC 2027
A3: TÍTULO DE LA PROPUESTA:
A5: *Marque con una X o pinte de color la celda corespondiente al mes en que se realizará cada actividad para cada objetivo
A6: Objetivo | B6: Actividad | C6: Fecha de inicio | D6: Fecha de finalización | E6: 1 | F6: 2 | G6: 3 | H6: 4 | I6: 5 | J6: 6 | K6: 7 | L6: 8 | M6: 9 | N6: 10 | O6: 11 | P6: 12 | Q6: 13 | R6: 14 | S6: 15 | T6: 16 | U6: 17 | V6: 18 | W6: 19 | X6: 20 | Y6: 21 | Z6: 22 | AA6: 23 | AB6: 24 | AC6: 25 | AD6: 26 | AE6: 27 | AF6: 28 | AG6: 29 | AH6: 30 | AI6: 31 | AJ6: 32 | AK6: 33 | AL6: 34 | AM6: 35 | AN6: 36
E7: Mes/Año | F7: Mes/Año | G7: Mes/Año | H7: Mes/Año | I7: Mes/Año | J7: Mes/Año | K7: Mes/Año | L7: Mes/Año | M7: Mes/Año | N7: Mes/Año | O7: Mes/Año | P7: Mes/Año | Q7: Mes/Año | R7: Mes/Año | S7: Mes/Año | T7: Mes/Año | U7: Mes/Año | V7: Mes/Año | W7: Mes/Año | X7: Mes/Año | Y7: Mes/Año | Z7: Mes/Año | AA7: Mes/Año | AB7: Mes/Año | AC7: Mes/Año | AD7: Mes/Año | AE7: Mes/Año | AF7: Mes/Año | AG7: Mes/Año | AH7: Mes/Año | AI7: Mes/Año | AJ7: Mes/Año | AK7: Mes/Año | AL7: Mes/Año | AM7: Mes/Año | AN7: Mes/Año
A8: Objetivo 1: | B8: Actividad 1.1: | E8: X | F8: X | G8: X
B9: Actividad 1.2:
B10: Actividad 1.3:
B11: Actividad 1.4:
B12: Actividad 1.5:
A13: Objetivo 2: | B13: Actividad 2.1:
B14: Actividad 2.2:
B15: Actividad 2.3:
B16: Actividad 2.4:
B17: Actividad 2.5:
A18: Objetivo 3: | B18: Actividad 3.1:
B19: Actividad 3.2:
B20: Actividad 3.3:
B21: Actividad 3.4:
B22: Actividad 3.5:

Sheet Resumen Presupuesto solicitado
B1: RESUMEN RECURSOS SOLICITADOS
B2: NO completar información en esta hoja.
B3: La información se autocompleta con los valores ingresados en la hoja 'Justificacion de recursos'
B5: Ítemes | C5: Año 1 Total ($) | D5: Año 2 Total ($) | E5: Año 3 Total ($) | F5: Total ($)
B6: Personal
B7: Personal Técnico | C7: =+'Justificación de recursos'!E23 -> 0 | D7: =+'Justificación de recursos'!F23 -> 0 | E7: =+'Justificación de recursos'!G23 -> 0 | F7: =SUM(C7:E7) -> 0
B8: Personal de Apoyo | C8: =+'Justificación de recursos'!E35 -> 0 | D8: =+'Justificación de recursos'!F35 -> 0 | E8: =+'Justificación de recursos'!G35 -> 0 | F8: =SUM(C8:E8) -> 0
B9: Tesistas o Memoristas | C9: =+'Justificación de recursos'!E43 -> 0 | D9: =+'Justificación de recursos'!F43 -> 0 | E9: =+'Justificación de recursos'!G43 -> 0 | F9: =SUM(C9:E9) -> 0
B10: Gastos de Operación
B11: Pasajes y Viáticos Nacionales/Internacionales/Cooperación Internacional | C11: =SUM('Justificación de recursos'!E53:F55) -> 0 | D11: =SUM('Justificación de recursos'!E56:F58) -> 0 | E11: =SUM('Justificación de recursos'!E59:F61) -> 0 | F11: =SUM(C11:E11) -> 0
B12: Gastos de Operación General | C12: =+'Justificación de recursos'!C76 -> 0 | D12: =+'Justificación de recursos'!D76 -> 0 | E12: =+'Justificación de recursos'!E76 -> 0 | F12: =SUM(C12:E12) -> 0
B13: Total | C13: =SUM(C7:C12) -> 0 | D13: =SUM(D7:D12) -> 0 | E13: =SUM(E7:E12) -> 0 | F13: =SUM(F7:F12) -> 0

Sheet Justificación de recursos
B1: JUSTIFICACIÓN DE RECURSOS SOLICITADOS:
B4: Recordatorio: El monto máximo de financiamiento para NUC corresponde a 13.000.000 CLP por año.
B6: Para completar esta sección, consulte las bases del concurso NUC UNAB 2027.
B7: Los montos estan expresados en pesos chilenos ($).
B8: Tanto para las compras nacionales como para las importaciones, se deberá incluir el IVA en el monto presupuestado.
B9: Al ingresar los montos en esta Hoja, automáticamente se visualizará la información en la hoja 'Resumen Presupuesto Solicitado'
B11: ÍTEM PERSONAL
B13: PERSONAL TÉCNICO
B14: En este subítem deberá solicitar y justificar los recursos requeridos para el pago del personal técnico.
B16: SUBITEM | C16: Dedicación | E16: Año 1 Remuneración / Honorarios ($) | F16: Año 2 Remuneración / Honorarios ($) | G16: Año 3 Remuneración / Honorarios ($) | H16: Justificación
C17: Horas por semana | D17: meses
B18: Personal 1 | E18: 0 | F18: 0 | G18: 0
B19: Personal 2 | E19: 0 | F19: 0 | G19: 0
B20: Personal 3 | E20: 0 | F20: 0 | G20: 0
B21: Personal 4 | E21: 0 | F21: 0 | G21: 0
B22: ... | E22: 0 | F22: 0 | G22: 0
D23: Totales | E23: =SUM(E18:E22) -> 0 | F23: =SUM(F18:F22) -> 0 | G23: =SUM(G18:G22) -> 0
B25: PERSONAL DE APOYO
B26: En este subítem deberá solicitar y justificar los recursos requeridos para el pago del personal de apoyo.
B28: SUBITEM | C28: Dedicación | E28: Año 1 Remuneración / Honorarios ($) | F28: Año 2 Remuneración / Honorarios ($) | G28: Año 3 Remuneración / Honorarios ($) | H28: Justificación
C29: Horas por semana | D29: Meses
B30: Personal 1 | E30: 0 | F30: 0 | G30: 0
B31: Personal 2 | E31: 0 | F31: 0 | G31: 0
B32: Personal 3 | E32: 0 | F32: 0 | G32: 0
B33: Personal 4 | E33: 0 | F33: 0 | G33: 0
B34: ... | E34: 0 | F34: 0 | G34: 0
D35: Totales | E35: =SUM(E30:E34) -> 0 | F35: =SUM(F30:F34) -> 0 | G35: =SUM(G30:G34) -> 0
B37: TESISTAS /MEMORISTAS
B38: En este subítem deberá solicitar y justificar los recursos requeridos para el pago de tesistas y memoristas.
B40: SUBITEM | C40: Número de tesistas/memoristas | E40: Año 1 Remuneración / Honorarios ($) | F40: Año 2 Remuneración / Honorarios ($) | G40: Año 3 Remuneración / Honorarios ($) | H40: Justificación
B42: Tesistas / Memoristas | C42: 0 | E42: 0 | F42: 0 | G42: 0
B43: Totales | C43: =SUM(C42:C42) -> 0 | E43: =SUM(E42) -> 0 | F43: =SUM(F42) -> 0 | G43: =SUM(G42) -> 0
B46: ÍTEM GASTOS DE OPERACIÓN:
B47: En este ítem se deberá solicitar y justificar los recursos requeridos para viajes, viáticos y gastos operacionales en general necesarios para la ejecución del proyecto.
B49: PASAJES Y VIÁTICOS (NACIONALES, INTERNACIONALES Y DE COOPERACIÓN INTERNACIONAL)
B50: En este subítem deberá solicitar y justificar los recursos requeridos para viajes y viáticos, nacionales e internacionales y de cooperación internacional del proyecto.
B52: SUBITEM | C52: Tipo | E52: Pasajes ($) | F52: Viático ($) | G52: N° de días | H52: Destino/ Procedencia | I52: Descripción y propósito del viaje
B53: Año 1 Viajes | C53: Nacionales | E53: 0 | F53: 0
C54: Internacional | E54: 0 | F54: 0
C55: Cooperación Internacional | E55: 0 | F55: 0
...

Sheet Recursos Disponibles
B1: RECURSOS DISPONIBLES
B2: Justifique en esta sección todos los recursos humanos, infraestructura, equipamiento y redes de colaboración disponibles para el adecuado desarrollo del proyecto.
